BEGIN:VCALENDAR
VERSION:2.0
PRODID:-//Venture Community Services - ECPv6.15.17//NONSGML v1.0//EN
CALSCALE:GREGORIAN
METHOD:PUBLISH
X-ORIGINAL-URL:https://venturecs.org
X-WR-CALDESC:Events for Venture Community Services
REFRESH-INTERVAL;VALUE=DURATION:PT1H
X-Robots-Tag:noindex
X-PUBLISHED-TTL:PT1H
BEGIN:VTIMEZONE
TZID:America/New_York
BEGIN:DAYLIGHT
TZOFFSETFROM:-0500
TZOFFSETTO:-0400
TZNAME:EDT
DTSTART:20250309T070000
END:DAYLIGHT
BEGIN:STANDARD
TZOFFSETFROM:-0400
TZOFFSETTO:-0500
TZNAME:EST
DTSTART:20251102T060000
END:STANDARD
BEGIN:DAYLIGHT
TZOFFSETFROM:-0500
TZOFFSETTO:-0400
TZNAME:EDT
DTSTART:20260308T070000
END:DAYLIGHT
BEGIN:STANDARD
TZOFFSETFROM:-0400
TZOFFSETTO:-0500
TZNAME:EST
DTSTART:20261101T060000
END:STANDARD
BEGIN:DAYLIGHT
TZOFFSETFROM:-0500
TZOFFSETTO:-0400
TZNAME:EDT
DTSTART:20270314T070000
END:DAYLIGHT
BEGIN:STANDARD
TZOFFSETFROM:-0400
TZOFFSETTO:-0500
TZNAME:EST
DTSTART:20271107T060000
END:STANDARD
END:VTIMEZONE
BEGIN:VEVENT
DTSTART;VALUE=DATE:20260107
DTEND;VALUE=DATE:20260902
DTSTAMP:20260421T135526
CREATED:20260106T193732Z
LAST-MODIFIED:20260107T170837Z
UID:6591-1767744000-1788307199@venturecs.org
SUMMARY:2026 Event Sponsorship
DESCRIPTION:We’re grateful for your continued support of Venture and for the important role you play in helping individuals with developmental disabilities build more independent\, fulfilling lives. \nSPONSORSHIP PACKAGE \nAs we look ahead to 2026\, we’d love to invite you to partner with us as an event sponsor for two of our signature fundraising events that help sustain and grow our programs: \n\n28th Annual Golf Classic – June 11th\, 2026\n20th Annual Sip & Support Event – September 17th\, 2026\n\nSponsorship opportunities are available at a variety of levels and include meaningful benefits for you and your business. Proceeds from these events directly support programs that enrich the lives of individuals and families in our community—such as adaptive yoga classes\, assistive technology\, adaptive sports equipment\, and free community events for children with autism. \nAs public funding becomes less predictable\, we are more reliant than ever on the generosity of sponsors and donors like you to keep vital services available to those who need it most. \nThank you for considering this opportunity to support our mission and make a meaningful impact. Our work reaches dozens of local communities\, including Sturbridge\, Auburn\, Fitchburg\, Worcester\, Uxbridge\, Southbridge\, Webster\, Dudley\, and many others. \nThank you for considering this opportunity to support our mission and make a meaningful impact. If you have any questions or would like to discuss sponsorship options\, please feel free to contact me at 774-922-1136 or kmason@venturecs.org. We’re grateful for your continued partnership and hope you’ll join us for one—or both—of these events in 2026. \nMORE INFO & SPONSOR HERE
URL:https://venturecs.org/event/2026sponsor/
LOCATION:MA
CATEGORIES:Fundraising Events
ATTACH;FMTTYPE=image/png:https://venturecs.org/wp-content/uploads/2026/01/sponsorship-iogo-1.png
ORGANIZER;CN="Kerrie Mason":MAILTO:kmason@venturecs.org
END:VEVENT
BEGIN:VEVENT
DTSTART;TZID=America/New_York:20260507T170000
DTEND;TZID=America/New_York:20260507T180000
DTSTAMP:20260421T135526
CREATED:20260224T203129Z
LAST-MODIFIED:20260225T180148Z
UID:6635-1778173200-1778176800@venturecs.org
SUMMARY:Magic Show with Steve Charette
DESCRIPTION:🎩✨ Step Into an Evening of Wonder & Magic! ✨🎩 \nJoin us for an unforgettable night as Steve Charette brings the MAGIC to Venture! Get ready for jaw-dropping tricks\, big laughs\, and plenty of surprises. \n👉RSVP HERE to Reserve Your Spot — Seats Are Limited! \nEvent Details: \nThursday\, May 7\nVenture Sturbridge Day Program\n1 Picker Road\, Sturbridge\, MA (Lower Level) \n🕓 4:45 PM – Check-In\n🎩 5:00–6:00 PM – Magic Show Begins! \nPlease arrive by 4:45 PM so you don’t miss a single magical moment. The show will begin promptly at 5:00 PM \nWho Can Attend \n\n – Open to individuals 18+ with disabilities\n – A caregiver or guardian must accompany all attendees\n – Free to attend\n – You do not need to receive services from Venture — this event is open to the community!\n\nQuestions?  Contact Kelsey Mondor at kmondor@venturecs.org \n 
URL:https://venturecs.org/event/magicshow/
LOCATION:Venture Sturbridge Day Program\, 1 Picker Road\, lower level\, Sturbridge\, MA\, 01566\, United States
CATEGORIES:Community Events
ATTACH;FMTTYPE=image/png:https://venturecs.org/wp-content/uploads/2026/02/Steve-Charette-Magic-Show-1.png
ORGANIZER;CN="Kelsey Mondor":MAILTO:kmondor@venturecs.org
END:VEVENT
END:VCALENDAR